BEGIN:VCALENDAR
VERSION:2.0
PRODID:-//Squarespace Inc/Squarespace 6//v6//EN
BEGIN:VEVENT
UID:51a82c41e4b080a0192d2437@squarespace.com
DTSTAMP:20130401T181438Z
DTSTART:20130415T183000Z
DTEND:20130415T193000Z
SUMMARY:Event One
END:VEVENT
END:VCALENDAR
